Workbook

Sheet DPC - CZ
A1: Univerzita Tomáše Bati ve Zlíně | H1: upraveno: | I1: 2024-04 | J1: Vyplňte pouze žluté oblasti | K1: Fakulta technologická | L1: 11 - profesor | M1: nebyl | N1: není | P1: děkanem/kou
K2: Fakulta logistiky a krizového řízení | L2: 12 - docent | M2: byl | N2: je | P2: rektorem/kou
G3: osobní číslo pracovníka: | K3: Fakulta aplikované informatiky | L3: 13 - odborný asistent | P3: kvestorem/kou
K4: Fakulta multimediálních komunikací | L4: 14 - asistent | P4: ředitelem/kou součásti
A5: Dohoda o pracovní činnosti | K5: Fakulta managementu a ekonomiky | L5: 15 - lektor
K6: Fakulta humanitních studií | L6: 21 - vědecký pracovník
A7: Univerzita Tomáše Bati ve Zlíně, | K7: Univerzitní institut | L7: 22 - techn. - hosp. prac.
K8: Koleje a menza | L8: 23 - prac. děln. povolání
A9: zastoupena | K9: Knihovna | L9: 24 - obch. provozní pracovník
A10: (dále jen "UTB" nebo "zaměstnavatel") | K10: Rektorát | L10: 29 - ostatní
K11: CEBIA-Tech
A12: a pan/í/ | E12: rodné příjmení | K12: Centrum polymerních systémů
A13: (dále jen "zaměstnanec")
A15: všechna dřívější příjmení (mimo rodného)
A18: rodné číslo | D18: datum narození | G18: místo, stát
E20: Počet vychovaných dětí u žen
A22: trvalé bydliště - ulice, číslo popisné/číslo orientační, obec, PSČ, pošta ( u cizinců též adresa pobytu v ČR) :
A25: Státní příslušnost: | G25: Zdravotní pojišťovna:
A27: Je poživatelem důchodu: | D27: Jakého: | G27: Důchod pobírán od:
A29: Název pojišťovny, adresa, číslo soc.pojištění u cizozemské pojišťovny v případě práce v zahraničí bezprostředně předcházející této dohodě :
A32: uzavírají podle § 74, 76 a 77 zákoníku práce tuto dohodu o pracovní činnosti:
A34: I.
A36: 1. Sjednaná práce: | G36: (rozpis činnosti viz. příloha)
A38: Kategorie zaměstnance:*/ | E38: **/
A40: 2. Místo výkonu práce:
A42: 3. Dohoda se uzavírá na dobu určitou od: | F42: do:
A44: 4. Zaměstnanec žádá o vyplacení mzdy:
B45: a) na účet u peněžního ústavu v ČR:
E46: spec. symbol (pokud existuje)
B47: b) na účet u pen. ústavu v zahraničí, stát EU: | F47: IBAN
F48: SWIFT
D49: stát mimo EU: | F49: účet
F50: SWIFT | J50: Nápověda
B51: c) pokladnou | J51: Pokud není vyplněno č.účtu, vyplňte u volby c) nebo d) ANO
A53: II.
A54: UTB ve Zlíně:
A55: 1. Vytvoří zaměstnanci přiměřené podmínky, zajišťující řádný a bezpečný výkon práce.
A57: 2. Bude poskytovat zaměstnanci za vykonanou práci sjednanou odměnu podle zákoníku práce.
A59: 3. Dle § 141 odst. 1 zákoníku práce, odměna za vykonanou práci je splatná čtrnáctý kalendářní den následujícího měsíce
B60: po vykonání práce.
...

Sheet DPC - EN
A1: Tomas Bata University in Zlín | H1: Version: | I1: 2024-04 | J1: Vyplňte pouze žluté oblasti | K1: Faculty of Technology | L1: Fakulta technologická | M1: 11 - Professor | N1: 11 - profesor | O1: that no | P1: that no | Q1: has not been agreed | S1: dean
K2: Faculty of Logistics and Crisis Management | L2: Fakulta logistiky a krizového řízení | M2: 12 - Associate Professor | N2: 12 - docent | O2: that a | P2: that an | Q2: has been agreed | S2: rector
F3: Worker ID number: | I3: =IF('DPC - CZ'!I3="","",'DPC - CZ'!I3) | K3: Fakulta of Applied Informatics | L3: Fakulta aplikované informatiky | M3: 13 - Senior Lecturer | N3: 13 - odborný asistent | S3: bursar
K4: Faculty of Multimedia Communications | L4: Fakulta multimediálních komunikací | M4: 14 - Lecturer | N4: 14 - asistent | S4: director
A5: Subcontract Agreement | K5: Faculty of Management and Economics | L5: Fakulta managementu a ekonomiky | M5: 15 - Assistant Lecturer | N5: 15 - lektor
K6: Faculty of Humanities | L6: Fakulta humanitních studií | M6: 21 - Researcher | N6: 21 - vědecký pracovník
A7: Tomas Bata University in Zlín, | D7: =IF('DPC - CZ'!D7:I7='DPC - EN'!L1,'DPC - EN'!K1,(IF('DPC - CZ'!D7:I7='DPC - EN'!L2,'DPC - EN'!K2,(IF('DPC - CZ'!D7:I7='DPC - EN'!L3,'DPC - EN'!K3,(IF('DPC - CZ'!D7:I7='DPC - EN'!L4,'DPC - EN'!K4,(IF('DPC - CZ'!D7:I7='DPC - EN'!L5,'DPC - EN'!K5,(IF('DPC - CZ'!D7:I7='DPC - EN'!L6,'DPC - EN'!K6,(IF('DPC - CZ'!D7:I7='DPC - EN'!L7,'DPC - EN'!K7,(IF('DPC - CZ'!D7:I7='DPC - EN'!L8,'DPC - EN'!K8,(IF('DPC - CZ'!D7:I7='DPC - EN'!L9,'DPC - EN'!K9,(IF('DPC - CZ'!D7:I7='DPC - EN'!L10,'DPC - EN'!K10,""))))))))))))))))))) | K7: University Institute | L7: Univerzitní institut | M7: 22 - Administration and technical staff | N7: 22 - techn. - hosp. prac.
K8: Library | L8: Koleje a menza | M8: 23 - Manual worker | N8: 23 - prac. děln. povolání
A9: represented by | B9: =IF('DPC - CZ'!B9='DPC - CZ'!P1,S1,IF('DPC - CZ'!B9='DPC - CZ'!P2,S2,IF('DPC - CZ'!B9='DPC - CZ'!P3,S3,IF('DPC - CZ'!B9='DPC - CZ'!P4,S4,"")))) | D9: =IF('DPC - CZ'!D9="","",'DPC - CZ'!D9) | K9: Halls of Residence and Refectoy | L9: Knihovna | M9: 24 - Business administration staff | N9: 24 - obch. provozní pracovník
A10: (hereinafter as "TBU in Zlín" or "Employer") | K10: Rectorate | L10: Rektorát | M10: 29 - Other professions | N10: 29 - ostatní
K11: CEBIA-Tech | L11: CEBIA-Tech
A12: and Mr./Mrs. | B12: =IF('DPC - CZ'!B12:D12="","",'DPC - CZ'!B12:D12) | E12: Maiden name: | G12: =IF('DPC - CZ'!G12:I12="","",'DPC - CZ'!G12:I12) | K12: Centre of Polymer Systems | L12: Centrum polymerních systémů
A13: (hereinafter as "Worker")
A15: All previous names (except for maiden name): | E15: =IF('DPC - CZ'!E15:I15="","",'DPC - CZ'!E15:I15)
A17: Birth Certificate No.: | B17: =IF('DPC - CZ'!B18:C18="","",'DPC - CZ'!B18:C18) | D17: Date of birth: | F17: =IF('DPC - CZ'!F18="","",'DPC - CZ'!F18) | G17: Place of birth, country: | H17: =IF('DPC - CZ'!H18:I18="","",'DPC - CZ'!H18:I18)
D19: Women only - number of children raised: | H19: =IF('DPC - CZ'!H20:I20="","",'DPC - CZ'!H20:I20)
A21: Permanent address - Street, Land-registry No./House No.,Town/village, Postcode, Post office (Foreigners only-residential address in the CR):
A22: =IF('DPC - CZ'!A23:I23="","",'DPC - CZ'!A23:I23)
A24: Nationality: | G24: Health insurance company: | I24: =IF('DPC - CZ'!I25="","",'DPC - CZ'!I25)
A26: Pension received: YES/NO | C26: =IF('DPC - CZ'!C27="","",(IF('DPC - CZ'!C27="Ano","Yes","No"))) | D26: Type of pension: | G26: Pension received since: | I26: =IF('DPC - CZ'!I27="","",'DPC - CZ'!I27)
A28: Name and address of current insurance company, Social Security No. - foreign insurance ID No.
A29: (in the event work abroad arises immediately preceding this Agreement):
A30: =IF('DPC - CZ'!A30:I30="","",'DPC - CZ'!A30:I30)
A32: are entering into the following Subcontract Agreement in compliance with § 74, 76 and 77 of the Labour Code:
A34: I
A36: 1.Scope of work agreed upon: | G36: (List of activities is included in the Annex)
A38: Worker category:*/ | C38: =IF('DPC - CZ'!C38:D38='DPC - EN'!N1,'DPC - EN'!M1,(IF('DPC - CZ'!C38:D38='DPC - EN'!N2,'DPC - EN'!M2,(IF('DPC - CZ'!C38:D38='DPC - EN'!N3,'DPC - EN'!M3,(IF('DPC - CZ'!C38:D38='DPC - EN'!N4,'DPC - EN'!M4,(IF('DPC - CZ'!C38:D38='DPC - EN'!N5,'DPC - EN'!M5,(IF('DPC - CZ'!C38:D38='DPC - EN'!N6,'DPC - EN'!M6,(IF('DPC - CZ'!C38:D38='DPC - EN'!N7,'DPC - EN'!M7,(IF('DPC - CZ'!C38:D38='DPC - EN'!N8,'DPC - EN'!M8,(IF('DPC - CZ'!C38:D38='DPC - EN'!N9,'DPC - EN'!M9,(IF('DPC - CZ'!C38:D38='DPC - EN'!N10,'DPC - EN'!M10,"")))))))))))))))))))
A40: 2. Location of work: | C40: =IF('DPC - CZ'!C40:G40="","",'DPC - CZ'!C40:G40)
A42: 3. The Agreed range of working hours is listed in the appendix.
A44: 4. Agreement is binding for a limited period from: | D44: =IF('DPC - CZ'!D42="","",'DPC - CZ'!D42) | E44: to: | F44: =IF('DPC - CZ'!G42="","",'DPC - CZ'!G42)
A46: 5. The Worker requests that the remuneration be paid:
B47: a) to his/her bank account in the | E47: =IF('DPC - CZ'!E45:I45="","",'DPC - CZ'!E45:I45)
B48: Czech Republic: | E48: Specific Code (if applicable) | H48: =IF('DPC - CZ'!H46="","",'DPC - CZ'!H46)
B49: b) to his/her bank account abroad; | D49: EU country: | F49: IBAN | G49: =IF('DPC - CZ'!G47:I47="","",'DPC - CZ'!G47:I47)
F50: SWIFT | G50: =IF('DPC - CZ'!G48:I48="","",'DPC - CZ'!G48:I48)
D51: country outside the EU: | F51: account No. | G51: =IF('DPC - CZ'!G49:I49="","",'DPC - CZ'!G49:I49)
F52: SWIFT | G52: =IF('DPC - CZ'!G50:I50="","",'DPC - CZ'!G50:I50) | J52: Please note:
B53: c) in the Cash Office | H53: =IF('DPC - CZ'!H51="","",'DPC - CZ'!H51) | J53: If you did not enter a bank account number, select the c) or d) option and enter YES.
A55: II
A56: TBU in Zlín:
...
