Workbook
Name Fakulta: [1]seznamy!$B$2:$B$10
Name Fakulta: seznamy!$B$2:$B$10
Name Hodnoceni: seznamy!$A$2:$A$3
Name Kriterium_vyberu: [2]seznamy!#REF!
Name Poradi: #REF!
Name Poradi: #REF!
Name Poradi: #REF!
Name Poradi: #REF!
Name Poradi: [2]seznamy!#REF!
Name Poradi: #REF!
Name Poradi: #REF!

Sheet Čti mne
B2: Dotazník pro přípravu a realizaci komercializace produktu v rámci projektů Proof-of-concept
B4: Vážený řešiteli,
B5: vyplněním tohoto dotazníku zahajujete komercionalizaci Vašeho vynálezu. Komercionalizací se rozumí skutečné uplatnění v praxi, tedy nabídnutí přínosu vynálezu lidstvu.
B6: Správným, přesným a úplným vyplněním dotazníku pomůžete týmu Centra transferu technologí (CTT) najít nejvhodnější strategii pro cestu od Vašeho nápadu k tržně úspěšnému produktu. Při vyplnění buďte prosím maximálně struční a věcní.
B7: CTT UTB prohlašuje, že veškeré údaje v tomto dotazníku jsou považovány za důvěrné, utajované a v tomto smyslu s nimi bude nakládáno. Obdržení dotazníku CTT Vám bude potvrzeno, dotazník bude zpracován a výsledek zpracování Vám bude oznámen písemně e-mailem.
B8: Pokud si při vyplnění nebudete vědět rady, prosím kontaktujte zaměstnance CTT (http://www.utb.cz/uni/organizacni-cleneni/kontakty-centrum-transferu).

Sheet 1. Obecné info
B2: 1. OBECNÉ INFORMACE
B4: Název technologie:
B5: Předkladatel:
B6: Fakulta/součást:
B8: REALIZAČNÍ TÝM | C8: «
B9: Člen týmu 1: | D9: Člen týmu 6:
B10: Člen týmu 2: | D10: Člen týmu 7:
B11: Člen týmu 3: | D11: Člen týmu 8:
B12: Člen týmu 4: | D12: Člen týmu 9:
B13: Člen týmu 5: | D13: Člen týmu 10:
B15: KONTAKT
B16: Telefon: | D16: E-mail:
A19: « | B19: Předpokládá se, že předkladatel a posléze hlavní řešitel je členem realizačního týmu, tudíž jej již mezi členy týmu neuvádějte.

Sheet 2. Popis technologie
B2: 2. POPIS TECHNOLOGIE
B3: Popis technologie je nutný pro správné určení komercializační strategie, správné zacílení produktů a volbu případných komerčních partnerů či investorů.
B4: 2.1 Stručný popis
B5: Stručně, jednoduše a srozumitelně popište, co tvoří Vaší technologii a jak funguje. Pokud je to účelné, doložte současně s návrhem dílčího projektu nákresy, schémata a další dokumenty.
B9: 2.2 Účel technologie, očekávaný výsledek
B10: Jaký je současný stav vývoje technologie? Jaký bude stav vaší technologie na konci tohoto projektu?Jaký bude mít tento projekt praktický výstup?
B14: Jaký výstup očekáváte při ukončení a implementaci projektu dle RIV? Uveďte technické parametry, stav a zařazení dle RIV. Uveďte i více výsledků.
B15: F - průmyslový a užitný vzor | E15: O - ostatní výsledky
B16: G - technicky realizované výsledky (prototyp, funkční vzorek)
B17: („Ostatní výsledky“ jsou takové výsledky, které nesplňují definice ostatních druhů výsledků výzkumu, experimentálního vývoje a inovací, např. zkušební série, materiál s ověřenými vlastnostmi, metodika s ověřenými vlastnostmi, uzavřená licenční smlouva, založená start-up společnost, založená spin-off společnost, počet dalších uzavřených smluv související s transferem duševního vlastnictví v oblasti výzkumu.)
B21: 2.3 Alternativní řešení, vědecká konkurence, přínos vůči alternativám
B22: Existují jiná řešení stejných problémů, ať již komerčně dostupná či jen popsaná v odborných publikacích?
B26: Existují další vědecké týmy řešící stejnou problematiku? Pokud ano, jak daleko jsou v řešení?
B30: Popište, v čem je Vaše technologie lepší než současná alternativní řešení.
B34: Které dosud nechráněné charakteristiky technologie je třeba chránit, aby ostatní nemohli tuto technologii vyrábět, užívat a prodávat? V jakém teritoriu může být daná technologie použita (lokální produkt, ČR, EU, svět)?

Sheet 3. Prům.-právní ochrana
B2: 3. STAV PRŮMYSLOVĚ-PRÁVNÍ OCHRANY
B3: 3.1 Výsledek průzkumu stavu technologie
B4: Byl proveden průzkum patentové literatury? Pokud ano, uveďte jméno jeho zpracovatele, datum provedení průzkumu a jeho závěry.
B8: Byl proveden průzkum odborné a technické literatury? Pokud ano, uveďte jméno jeho zpracovatele, datum provedení průzkumu a jeho závěry.
B12: 3.2 Aktuálnost patentové ochrany
B13: Byly již podány patentové přihlášky nebo uděleny patenty související s touto technologií? Pokud ano, uveďte konkrétně. Pokud ne, připadá ještě v úvahu přihlášení (s ohledem na zveřejnění)?
B17: 3.3 Teritoriální rozsah patentové ochrany
B18: Na jakém teritoriu je patentová ochrana zajištěna, resp. předpokládána?

Sheet 4. Práva UTB
B2: 4. VZTAH UTB A JINÝCH SUBJEKTŮ K ŘEŠENÍ
B3: 4.1 Kolektiv řešitelů, původců, majitelské vztahy k řešení
B4: Uveďte všechny osoby či organizace, které se podílely na řešení, resp. mají k popsané technologii jakékoliv právní nároky (licence, smlouvy o spolupráci, atd.).
B8: 4.2 Financování řešení
B9: Uveďte veškeré projekty, granty, které byly použity pro financování výzkumu a vývoje technologie popsané na listu 1 (Obecné informace). U každého grantu uveďte název, číslo a poskytovatele.
B13: Uveďte veškerou spolupráci s komerčními subjekty a zakázkové výzkumné smlouvy, ze kterých bylo vytvoření technologie popsané na listu 1 (Obecné informace) financováno: uveďte firmu, smlouvu o spolupráci a datum podpisu.

Sheet 5. Stav komercializace
B2: 5. STAV, POTENCIÁL KOMERCIALIZACE
B3: 5.1 Stupeň rozpracovanosti řešení
B4: Jaký je aktuální stav vývoje technologie, připravenost k realizaci (např. nápad, pozitivní výsledek experimentů, proof of concept, prototyp, výrobek, atd.)?
B8: 5.2 Překážky komercializace
B9: Jsou Vám známy nějaké překážky komercializace (legislativní, ekonomické)?
B13: 5.3 Stav vazeb na cílové subjekty
B14: Znáte již průmyslového zájemce o využití technologie? Uveďte prosím jeho název, případně i kontaktní osobu a stav jednání (vytipovaný subjekt / oslovený subjekt / licenční ujednání / uzavřená licenční smlouva).
B18: Je výstup připravován pro konkrétní firmu (zakázkový či smluvní výzkum)?
B22: 5.4 Perspektiva tržní realizace
B23: Jedná se o nový výrobek, stávající inovaci, začlenění do tržního sortimentu?

Sheet 6. Výzkumné plány
B2: 6. NÁSLEDUJÍCÍ VÝZKUMNÉ PLÁNY
B3: Pro komercializační strategii je podstatné, zda jako výzkumní pracovníci vidíte možnosti, jak pokračovat ve výzkumu a současnou technologii dále vylepšovat.
B4: Jste ochotni se svým týmem dále spolupracovat na komercializaci technologie? Tj. máte dostatek času pro poskytnutí podpory nad rámec Vašich současných povinností?
B5: Vyberte:
B8: Jste ochotni se svým týmem pracovat na dalším vývoji - inovacích? Tj. máte dostatek času pro poskytnutí podpory nad rámec Vašich současných povinností?
B9: Vyberte:
B11: Děkujeme za vyplnění dotazníku. Po jeho analýze na jeho základě vypracujeme podklad pro schválení projektu Radou pro komercializaci. Po rozhodnutí Rady Vás budeme informovat o dalším postupu.
E12: tým pracovníků CTT

Sheet tisk
B1: KOMERCIALIZAČNÍ DOTAZNÍK
D3: Evidenční číslo dotazníku:
E4: Datum podání:
B7: 1. OBECNÉ INFORMACE
B9: Název technologie: | D9: ='1. Obecné info'!C4 -> 0
B10: Předkladatel: | D10: ='1. Obecné info'!C5 -> 0
B11: Fakulta/součást: | D11: ='1. Obecné info'!C6 -> 0
B13: 1.1 REALIZAČNÍ TÝM
B14: Členové týmu: | D14: ='1. Obecné info'!C9 -> 0 | G14: ='1. Obecné info'!E9 -> 0
D15: ='1. Obecné info'!C10 -> 0 | G15: ='1. Obecné info'!E10 -> 0
D16: ='1. Obecné info'!C11 -> 0 | G16: ='1. Obecné info'!E11 -> 0
D17: ='1. Obecné info'!C12 -> 0 | G17: ='1. Obecné info'!E12 -> 0
D18: ='1. Obecné info'!C13 -> 0 | G18: ='1. Obecné info'!E13 -> 0
B20: 1.2 KONTAKT NA PŘEDKLADATELE
C21: Telefon: | D21: ='1. Obecné info'!C16 -> 0 | F21: E-mail: | G21: ='1. Obecné info'!E16 -> 0
B23: 2. POPIS TECHNOLOGIE
B25: 2.1 Stručný popis
B26: Stručně, jednoduše a srozumitelně popište, co tvoří Vaší technologii a jak funguje. Pokud je to účelné, doložte současně s návrhem dílčího projektu nákresy, schémata a další dokumenty.
C28: ='2. Popis technologie'!B7:F7 -> 0
B30: 2.2 Účel technologie, očekávaný výsledek
B31: Jaký je současný stav vývoje technologie? Jaký bude stav vaší technologie na konci tohoto projektu?Jaký bude mít tento projekt praktický výstup?
C33: ='2. Popis technologie'!B12:F12 -> 0
B35: Jaký výstup očekáváte při ukončení a implementaci projektu dle RIV? Uveďte technické parametry, stav a zařazení dle RIV. Uveďte i více výsledků.
C37: ='2. Popis technologie'!B19:F19 -> 0
B39: 2.3 Alternativní řešení, vědecká konkurence, přínos vůči alternativám
B40: Existují jiná řešení stejných problémů, ať již komerčně dostupná či jen popsaná v odborných publikacích?
C42: ='2. Popis technologie'!B24:F24 -> 0
B44: Existují další vědecké týmy řešící stejnou problematiku? Pokud ano, jak daleko jsou v řešení?
C46: ='2. Popis technologie'!B28:F28 -> 0
B48: Popište, v čem je Vaše technologie lepší než současná alternativní řešení.
C50: ='2. Popis technologie'!B32:F32 -> 0
B52: Které dosud nechráněné charakteristiky technologie je třeba chránit, aby ostatní nemohli tuto technologii vyrábět, užívat a prodávat? V jakém teritoriu může být daná technologie použita (lokální produkt, ČR, EU, svět)?
C54: ='2. Popis technologie'!B36:F36 -> 0
B56: 3. PRŮMYSLOVĚ-PRÁVNÍ OCHRANA
B58: 3.1 Výsledek průzkumu stavu technologie
B59: Byl proveden průzkum patentové literatury? Pokud ano, uveďte jméno jeho zpracovatele, datum provedení průzkumu a jeho závěry.
C61: ='3. Prům.-právní ochrana'!C6:F6 -> 0
B63: Byl proveden průzkum odborné a technické literatury? Pokud ano, uveďte jméno jeho zpracovatele, datum provedení průzkumu a jeho závěry.
C65: ='3. Prům.-právní ochrana'!C10:F10 -> 0
B67: 3.2 Aktuálnost patentové ochrany
B68: Byly již podány patentové přihlášky nebo uděleny patenty související s touto technologií? Pokud ano, uveďte konkrétně. Pokud ne, připadá ještě v úvahu přihlášení (s ohledem na zveřejnění)?
C70: ='3. Prům.-právní ochrana'!C15:F15 -> 0
B72: 3.3 Teritoriální rozsah patentové ochrany
B73: Na jakém teritoriu je patentová ochrana zajištěna, resp. předpokládána?
C75: ='3. Prům.-právní ochrana'!C20:F20 -> 0
B77: 4. VZTAH UTB A JINÝCH SUBJEKTŮ K ŘEŠENÍ (omezení práv UTB)
B79: 4.1 Kolektiv řešitelů, původců, majitelské vztahy k řešení
B80: Uveďte všechny osoby či organizace, které se podílely na řešení, resp. mají k popsané technologii jakékoliv právní nároky (licence, smlouvy o spolupráci, atd.).
C82: ='4. Práva UTB'!C6:F6 -> 0
B84: 4.2 Financování řešení
B85: Uveďte veškeré projekty, granty, které byly použity pro financování výzkumu a vývoje technologie popsané na listu 1 (Obecné informace). U každého grantu uveďte název, číslo a poskytovatele.
C87: ='4. Práva UTB'!C11:F11 -> 0
B89: Uveďte veškerou spolupráci s komerčními subjekty a zakázkové výzkumné smlouvy, ze kterých bylo vytvoření technologie popsané na listu 1 (Obecné informace) financováno: uveďte firmu, smlouvu o spolupráci a datum podpisu.
C91: ='4. Práva UTB'!C15:F15 -> 0
B93: 5. STAV, POTENCIÁL KOMERCIALIZACE
B95: 5.1 Stupeň rozpracovanosti řešení
B96: Jaký je aktuální stav vývoje technologie, připravenost k realizaci (např. nápad, pozitivní výsledek experimentů, proof of concept, prototyp, výrobek, atd.)?
C98: ='5. Stav komercializace'!C6:F6 -> 0
B100: 5.2 Překážky komercializace
B101: Jsou Vám známy nějaké překážky komercializace (legislativní, ekonomické)?
C103: ='5. Stav komercializace'!C11:F11 -> 0
B105: 5.3 Stav vazeb na cílové subjekty
B106: Znáte již průmyslového zájemce o využití technologie? Uveďte prosím jeho název, případně i kontaktní osobu a stav jednání (vytipovaný subjekt / oslovený subjekt / licenční ujednání / uzavřená licenční smlouva).
C108: ='5. Stav komercializace'!C16:F16 -> 0
B109: Je výstup připravován pro konkrétní firmu (zakázkový či smluvní výzkum)?
C111: ='5. Stav komercializace'!C20:F20 -> 0
B113: 5.4 Perspektiva tržní realizace
B114: Jedná se o nový výrobek, stávající inovaci, začlenění do tržního sortimentu?
C116: ='5. Stav komercializace'!C25:F25 -> 0
B118: 6. NÁSLEDUJÍCÍ VÝZKUMNÉ PLÁNY
B120: Jste ochotni se svým týmem dále spolupracovat na komercializaci technologie? Tj. máte dostatek času pro poskytnutí podpory nad rámec Vašich současných povinností?
C122: ='6. Výzkumné plány'!C5 -> 0
C123: ='6. Výzkumné plány'!C6:F6 -> 0
B125: Jste ochotni se svým týmem pracovat na dalším vývoji - inovacích? Tj. máte dostatek času pro poskytnutí podpory nad rámec Vašich současných povinností?
C127: ='6. Výzkumné plány'!C9 -> 0
C128: ='6. Výzkumné plány'!C10:F10 -> 0

Sheet seznamy
A1: hodnocení | B1: Fakulta
A2: ANO | B2: CEBIA-TECH
A3: NE | B3: Centrum polymerních systémů
B4: Fakulta aplikované informatiky
B5: Fakulta humanitních studií
B6: Fakulta logistiky a krizového řízení
B7: Fakulta managementu a ekonomiky
B8: Fakulta multimediálních komunikací
B9: Fakulta technologická
B10: Univerzitní institut
