Workbook
Name Fakulta: [1]seznamy!$B$2:$B$10
Name Fakulta: [2]seznamy!$B$2:$B$10
Name Fakulta: seznamy!$B$2:$B$10
Name Hodnoceni: seznamy!$A$2:$A$3
Name Poradi: #REF!
Name Poradi: #REF!
Name Poradi: #REF!
Name Poradi: #REF!
Name Poradi: #REF!
Name Poradi: #REF!
Name Poradi: #REF!
Name Poradi: #REF!

Sheet 1. Identifikace projektu
B2: 1. IDENTIFIKACE PROJEKTU
B4: Název projektu:
B5: Řešitel: | D5: Zahájení projektu:
B6: Fakulta/součást: | D6: Ukončení projektu:
B8: Číslo projektu: | D8: SPP prvek:

Sheet 2. Tým projektu
B2: 2. TÝM PROJEKTU KOMERCIALIZACE PRODUKTU
C4: jméno | E4: telefon (mob.) | G4: e-mail | I4: úvazek/DPP | K4: změny
B5: Řešitel (ved. týmu):
B6: Člen týmu 1:
B7: Člen týmu 2:
B8: Člen týmu 3:
B9: Člen týmu 4:
B10: Člen týmu 5:
B11: Člen týmu 6:
B12: Člen týmu 7:
B13: Člen týmu 8:
B14: Člen týmu 9:

Sheet 3. Definice produktu
B2: 3. DEFINICE PRODUKTU
B3: 3.1 Popis produktu
B7: 3.2 Průmyslově-právní ochrana
B11: 3.3 Technické specifikace produktu

Sheet 4. Plán činností
B2: 4. PLÁN ČINNOSTÍ
B4: Etapa 1 - VÝROBA a TESTOVÁNÍ
B6: Termín od: | E6: Termín do:
B7: Cíle:
B8: Činnosti:
B9: Výstupy:
B10: Rizika:
B11: Spolupráce:
B12: Zdroje:
B13: Lidé:
B14: Finance: | F14: Čerpáno z: | H14: Poznámka
C15: Mzdy:
C16: Zdroje:
C17: Spolupráce:
C18: Cestovné:
C19: CELKEM: | D19: =SUM(D15:D18) -> 0
B21: Etapa 2 - MARKETING A PRŮZKUM TRHU
B23: Termín od: | E23: Termín do:
B24: Cíle:
A25: MKT kanály:
B26: Činnosti:
A27: MKT výstupy:
B28: Rizika:
B29: Spolupráce:
B30: Lidé:
B31: Finance: | F31: Čerpáno z: | H31: Poznámka
C32: Mzdy:
C33: MKT výstupy:
C34: Spolupráce:
C35: Cestovné:
C36: CELKEM: | D36: =SUM(D32:D35) -> 0
B38: Etapa 3 - KOMERCIALIZACE
B40: Termín od: | E40: Termín do:
B41: Cíle:
B42: Činnosti:
B43: Výstupy:
B44: Rizika:
A45: Spolupráce:
B46: Lidé:
B47: Finance: | F47: Čerpáno z: | H47: Poznámka
...

Sheet 5. Harmonogram
B2: 5. HARMONOGRAM
C4: Termín zahájení | E4: Termín ukončení
B5: 1. etapa - výrobní | C5: ='4. Plán činností'!C6 -> 0 | D5: =E5-C5 -> 0 | E5: ='4. Plán činností'!F6 -> 0 | F5: =C5 -> 0
B6: 2. etapa - marketingová | C6: ='4. Plán činností'!C23 -> 0 | D6: =E6-C6 -> 0 | E6: ='4. Plán činností'!F23 -> 0
B7: 3. etapa - komercializační | C7: ='4. Plán činností'!C40 -> 0 | D7: =E7-C7 -> 0 | E7: ='4. Plán činností'!F40 -> 0 | F7: =E7 -> 0
B26: Údaje v harmonogramu a graf se zobrazí po zadání termínů jednotlivých etap na kartě 4. Plán činností.

Sheet 6. Rozpočet-tisk
B1: STRATEGIE TRANSFERU TECHNOLOGIE
B3: 6. ROZPOČET PROJEKTU
C6: ZPŮSOBILÉ NÁKLADY (Kč) | F6: 1. rok řešení projektu | L6: 2. rok řešení projektu | R6: CELKEM
F7: Přidělené | G7: 1Q | H7: 2Q | I7: 3Q | J7: 4Q | K7: ∑ | L7: Přidělené | M7: 1Q | N7: 2Q | O7: 3Q | P7: 4Q | Q7: ∑
C8: 1. | D8: Osobní náklady | G8: =G9+G10 -> 0 | H8: =H9+H10 -> 0 | I8: =I9+I10 -> 0 | J8: =J9+J10 -> 0 | K8: =SUM(G8:J8) -> 0 | M8: =M9+M10 -> 0 | N8: =N9+N10 -> 0 | O8: =O9+O10 -> 0 | P8: =P9+P10 -> 0 | Q8: =SUM(M8:P8) -> 0 | R8: =K8+Q8 -> 0
D9: 1.1 | E9: Členové řešitelského týmu | K9: =SUM(G9:J9) -> 0 | Q9: =SUM(M9:P9) -> 0 | R9: =K9+Q9 -> 0
D10: 1.2 | E10: Člen týmu CTT | K10: =SUM(G10:J10) -> 0 | Q10: =SUM(M10:P10) -> 0 | R10: =K10+Q10 -> 0
C11: 2. | D11: Náklady na služby (subdodávky) | K11: =SUM(G11:J11) -> 0 | Q11: =SUM(M11:P11) -> 0 | R11: =K11+Q11 -> 0
C12: 3. | D12: Průmyslově-právní ochrana | K12: =SUM(G12:J12) -> 0 | Q12: =SUM(M12:P12) -> 0 | R12: =K12+Q12 -> 0
C13: 4. | D13: Ostatní přímé náklady | K13: =SUM(G13:J13) -> 0 | Q13: =SUM(M13:P13) -> 0 | R13: =K13+Q13 -> 0
C14: 5. | D14: Ostatní nepřímé náklady - režie | K14: =SUM(G14:J14) -> 0 | Q14: =SUM(M14:P14) -> 0 | R14: =K14+Q14 -> 0
E15: CELKEM | F15: =F8+F11+F12+F13+F14 -> 0 | G15: =G8+G11+G12+G13+G14 -> 0 | H15: =H8+H11+H12+H13+H14 -> 0 | I15: =I8+I11+I12+I13+I14 -> 0 | J15: =J8+J11+J12+J13+J14 -> 0 | K15: =K8+K11+K12+K13+K14 -> 0 | L15: =L8+L11+L12+L13+L14 -> 0 | M15: =M8+M11+M12+M13+M14 -> 0 | ... Q15: =Q8+Q11+Q12+Q13+Q14 -> 0 | R15: =SUM(R9:R14) -> 0
C17: Detailní informace k rozpočtu projektu
F19: 1. rok řešení projektu | M19: 2. rok řešení projektu
C20: 1. | D20: Osobní náklady | F20: =K8 -> 0 | M20: =Q8 -> 0
C23: 2. | D23: Náklady na služby (subdodávky) | F23: =K11 -> 0 | M23: =Q11 -> 0
C26: 3. | D26: Průmyslově-právní ochrana | F26: =K12 -> 0 | M26: =Q12 -> 0
C29: 4. | D29: Ostatní přímé náklady | F29: =K13 -> 0 | M29: =Q13 -> 0

Sheet tisk
B1: STRATEGIE TRANSFERU TECHNOLOGIE
B3: 1. IDENTIFIKACE PROJEKTU
C5: Název projektu: | K5: ='1. Identifikace projektu'!C4 -> 0
C6: Řešitel projektu: | K6: ='1. Identifikace projektu'!C5 -> 0 | AA6: Zahájení projektu: | AK6: ='1. Identifikace projektu'!E5 -> 0
C7: Fakulta/součást: | K7: ='1. Identifikace projektu'!C6 -> 0 | AA7: Ukončení projektu: | AK7: ='1. Identifikace projektu'!E6 -> 0
C9: Číslo projektu: | K9: ='1. Identifikace projektu'!C8 -> 0 | AA9: SPP prvek: | AK9: ='1. Identifikace projektu'!E8 -> 0
B11: 2. TÝM PROJEKTU KOMERCIALIZACE PRODUKTU
J13: jméno | Y13: telefon | AD13: e-mail | AM13: úvazek/DPP | AR13: změny
B14: Řešitel (ved. týmu): | J14: ='1. Identifikace projektu'!C5 -> 0 | Y14: ='2. Tým projektu'!E5 -> 0 | AD14: ='2. Tým projektu'!G5 -> 0 | AM14: ='2. Tým projektu'!I5 -> 0 | AR14: ='2. Tým projektu'!K5 -> 0
B15: Člen týmu 1: | J15: ='2. Tým projektu'!C6 -> 0 | Y15: ='2. Tým projektu'!E6 -> 0 | AD15: ='2. Tým projektu'!G6 -> 0 | AM15: ='2. Tým projektu'!I6 -> 0 | AR15: ='2. Tým projektu'!K6 -> 0
B16: Člen týmu 2: | J16: ='2. Tým projektu'!C7 -> 0 | Y16: ='2. Tým projektu'!E7 -> 0 | AD16: ='2. Tým projektu'!G7 -> 0 | AM16: ='2. Tým projektu'!I7 -> 0 | AR16: ='2. Tým projektu'!K7 -> 0
B17: Člen týmu 3: | J17: ='2. Tým projektu'!C8 -> 0 | Y17: ='2. Tým projektu'!E8 -> 0 | AD17: ='2. Tým projektu'!G8 -> 0 | AM17: ='2. Tým projektu'!I8 -> 0 | AR17: ='2. Tým projektu'!K8 -> 0
B18: Člen týmu 4: | J18: ='2. Tým projektu'!C9 -> 0 | Y18: ='2. Tým projektu'!E9 -> 0 | AD18: ='2. Tým projektu'!G9 -> 0 | AM18: ='2. Tým projektu'!I9 -> 0 | AR18: ='2. Tým projektu'!K9 -> 0
B19: Člen týmu 5: | J19: ='2. Tým projektu'!C10 -> 0 | Y19: ='2. Tým projektu'!E10 -> 0 | AD19: ='2. Tým projektu'!G10 -> 0 | AM19: ='2. Tým projektu'!I10 -> 0 | AR19: ='2. Tým projektu'!K10 -> 0
B20: Člen týmu 6: | J20: ='2. Tým projektu'!C11 -> 0 | Y20: ='2. Tým projektu'!E11 -> 0 | AD20: ='2. Tým projektu'!G11 -> 0 | AM20: ='2. Tým projektu'!I11 -> 0 | AR20: ='2. Tým projektu'!K11 -> 0
B21: Člen týmu 7: | J21: ='2. Tým projektu'!C12 -> 0 | Y21: ='2. Tým projektu'!E12 -> 0 | AD21: ='2. Tým projektu'!G12 -> 0 | AM21: ='2. Tým projektu'!I12 -> 0 | AR21: ='2. Tým projektu'!K12 -> 0
B23: 3. DEFINICE PRODUKTU
B25: 3.1 Popis produktu
C27: ='3. Definice produktu'!C5:G5 -> 0
B29: 3.2 Průmyslově-právní ochrana
C31: ='3. Definice produktu'!C9:G9 -> 0
B33: 3.3 Technické specifikace produktu
C35: ='3. Definice produktu'!C13 -> 0 | AA35: ='3. Definice produktu'!E13 -> 0 | AO35: ='3. Definice produktu'!G13 -> 0
B37: 4. PLÁN ČINNOSTÍ
B39: Etapa 1 - VÝROBA a TESTOVÁNÍ
C41: Termín od: | H41: ='4. Plán činností'!C6 -> 0 | U41: Termín do: | Z41: ='4. Plán činností'!F6 -> 0
B43: Cíle: | H43: ='4. Plán činností'!C7 -> 0
B45: Činnosti: | H45: ='4. Plán činností'!C8 -> 0
B47: Výstupy: | H47: ='4. Plán činností'!C9 -> 0
B49: Rizika: | H49: ='4. Plán činností'!C10 -> 0
B51: Spolupráce: | H51: ='4. Plán činností'!C11 -> 0
B53: Zdroje: | H53: ='4. Plán činností'!C12 -> 0
B55: Lidé: | H55: ='4. Plán činností'!C13 -> 0
B56: Finance: | V56: Čerpáno z: | AG56: Poznámka
H57: Mzdy: | N57: ='4. Plán činností'!D15 -> 0 | X57: ='4. Plán činností'!F15 -> 0 | AG57: ='4. Plán činností'!H15 -> 0
H58: Zdroje: | N58: ='4. Plán činností'!D16 -> 0
H59: Spolupráce:
H60: Cestovné: | N60: ='4. Plán činností'!D18 -> 0
H61: CELKEM: | N61: =SUM(N57:T60) -> 0
B63: Etapa 2 - MARKETING A PRŮZKUM TRHU
...

Sheet seznamy
A1: hodnocení | B1: Fakulta
A2: ANO | B2: CEBIA-TECH
A3: NE | B3: Centrum polymerních systémů
B4: Fakulta aplikované informatiky
B5: Fakulta humanitních studií
B6: Fakulta logistiky a krizového řízení
B7: Fakulta managementu a ekonomiky
B8: Fakulta multimediálních komunikací
B9: Fakulta technologická
B10: Univerzitní institut
