Workbook

Sheet DPC - CZ
A1: Univerzita Tomáše Bati ve Zlíně | H1: upraveno: | I1: 2026-10 | J1: Vyplňte pouze žluté oblasti | K1: Fakulta technologická | L1: 11 - profesor | M1: 11 | N1: nebyl | O1: není | Q1: děkanem/kou | S1: zaměstnavatel
K2: Fakulta logistiky a krizového řízení | L2: 12 - docent | M2: 12 | N2: byl | O2: je | Q2: rektorem/kou | S2: zaměstnanec na základě dohody zaměstnance a zaměstnavatele
G3: osobní číslo pracovníka: | K3: Fakulta aplikované informatiky | L3: 13 - odborný asistent | M3: 13 | Q3: kvestorem/kou
K4: Fakulta multimediálních komunikací | L4: 14 - asistent | M4: 14 | Q4: ředitelem/kou součásti
A5: Dohoda o pracovní činnosti | K5: Fakulta managementu a ekonomiky | L5: 15 - lektor | M5: 15
K6: Fakulta humanitních studií | L6: 21 - vědecký pracovník | M6: 21
A7: Univerzita Tomáše Bati ve Zlíně, | H7: IČO: 70883521 | K7: Univerzitní institut | L7: 22 - techn. - hosp. prac. | M7: 22
K8: Koleje a menza | L8: 23 - prac. děln. povolání | M8: 23
A9: se sídlem: | K9: Knihovna | L9: 24 - obch. provozní pracovník | M9: 24
K10: Rektorát | L10: 29 - ostatní | M10: 29
A11: zastoupena
A12: (dále jen "UTB" nebo "zaměstnavatel")
A14: a pan/í/
A16: rodné číslo | D16: datum narození | F16: =IF(B16="","",MID(B16,5,2)&"."&IF(MID(B16,3,2)<"50",MID(B16,3,2)&".",(MID(B16,3,2)-"50")&".")&IF(MID(B16,1,2)<"40","20"&MID(B16,1,2),"19"&MID(B16,1,2))) | G16: místo, stát
A18: trvalé bydliště - ulice, číslo popisné/číslo orientační, obec, PSČ, pošta a adresa pobytu v ČR:
A20: (dále jen "zaměstnanec")
A22: uzavírají podle § 74, 76 a 77 zákoníku práce tuto dohodu o pracovní činnosti:
A24: I.
A25: 1. Zaměstnanec se zavazuje, že pro UTB ve Zlíně v době | F25: od | H25: do
A27: provede tyto sjednané práce:
A28: (rozpis činnosti viz. příloha)
A30: Kategorie zaměstnance: */ | C30: =IF(D30=L1,M1,IF(D30=L2,M2,IF(D30=L3,M3,IF(D30=L4,M4,IF(D30=L5,M5,IF(D30=L6,M6,IF(D30=L7,M7,IF(D30=L8,M8,IF(D30=L9,M9,IF(D30=L10,M10,"")))))))))) | E30: **/
A32: Typová pracovní pozice: ***/
A34: 2. Místo výkonu práce:
A36: 3. Den zahájení výkonu práce:
A38: 4. Sjednaný rozsah pracovní doby: dle přílohy
A40: 5. Zaměstnanec žádá o vyplacení mzdy:
B41: a) na účet u peněžního ústavu v ČR:
E42: spec. symbol (pokud existuje)
B43: b) na účet u pen. ústavu v zahraničí, stát EU: | F43: IBAN
F44: SWIFT | J44: NETISKNE SE
D45: stát mimo EU: | F45: účet
F46: SWIFT | J46: Nápověda
B47: c) pokladnou | J47: Pokud není vyplněno č.účtu, vyplňte u volby c) ANO
A49: 6. Pracovní dobu do směn rozvrhuje: | I49: **/
A51: II.
A52: UTB ve Zlíně:
A54: 1. Vytvoří zaměstnanci přiměřené podmínky, zajišťující řádný a bezpečný výkon práce.
A56: 2. Bude poskytovat zaměstnanci za vykonanou práci sjednanou odměnu podle zákoníku práce.
A58: 3. Dle § 141 odst. 1 zákoníku práce, odměna za vykonanou práci je splatná čtrnáctý kalendářní den následujícího měsíce
...

Sheet DPC - EN
A1: Tomas Bata University in Zlín | H1: Version: | I1: 2026-10 | J1: Vyplňte pouze žluté oblasti | K1: Faculty of Technology | L1: Fakulta technologická | M1: 11 - Professor | N1: 11 - profesor | O1: that no | P1: that no | Q1: has not been agreed | S1: dean | T1: the Employer | U1: zaměstnavatel | V1: January
K2: Faculty of Logistics and Crisis Management | L2: Fakulta logistiky a krizového řízení | M2: 12 - Associate Professor | N2: 12 - docent | O2: that a | P2: that an | Q2: has been agreed | S2: rector | T2: the Worker, based on an agreement between the Worker and the Employer | U2: zaměstnanec na základě dohody zaměstnance a zaměstnavatele | V2: February
F3: Worker ID number: | I3: =IF('DPC - CZ'!I3="","",'DPC - CZ'!I3) | K3: Fakulta of Applied Informatics | L3: Fakulta aplikované informatiky | M3: 13 - Senior Lecturer | N3: 13 - odborný asistent | S3: bursar | V3: March
K4: Faculty of Multimedia Communications | L4: Fakulta multimediálních komunikací | M4: 14 - Lecturer | N4: 14 - asistent | S4: director | V4: April
A5: Subcontract Agreement | J5: DO NOT PRINT | K5: Faculty of Management and Economics | L5: Fakulta managementu a ekonomiky | M5: 15 - Assistant Lecturer | N5: 15 - lektor | V5: May
K6: Faculty of Humanities | L6: Fakulta humanitních studií | M6: 21 - Researcher | N6: 21 - vědecký pracovník | V6: June
A7: Tomas Bata University in Zlín, | D7: =IF('DPC - CZ'!D7='DPC - EN'!L1,'DPC - EN'!K1,(IF('DPC - CZ'!D7='DPC - EN'!L2,'DPC - EN'!K2,(IF('DPC - CZ'!D7='DPC - EN'!L3,'DPC - EN'!K3,(IF('DPC - CZ'!D7='DPC - EN'!L4,'DPC - EN'!K4,(IF('DPC - CZ'!D7='DPC - EN'!L5,'DPC - EN'!K5,(IF('DPC - CZ'!D7='DPC - EN'!L6,'DPC - EN'!K6,(IF('DPC - CZ'!D7='DPC - EN'!L7,'DPC - EN'!K7,(IF('DPC - CZ'!D7='DPC - EN'!L9,'DPC - EN'!K8,(IF('DPC - CZ'!D7='DPC - EN'!L8,'DPC - EN'!K9,(IF('DPC - CZ'!D7='DPC - EN'!L10,'DPC - EN'!K10,""))))))))))))))))))) | H7: ID: 70883521 | K7: University Institute | L7: Univerzitní institut | M7: 22 - Administration and technical staff | N7: 22 - techn. - hosp. prac. | V7: July
K8: Library | L8: Koleje a menza | M8: 23 - Manual worker | N8: 23 - prac. děln. povolání | V8: August
A9: with its registered office: | C9: =IF('DPC - CZ'!B9="","",'DPC - CZ'!B9) | K9: Halls of Residence and Refectoy | L9: Knihovna | M9: 24 - Business administration staff | N9: 24 - obch. provozní pracovník | V9: September
K10: Rectorate | L10: Rektorát | M10: 29 - Other professions | N10: 29 - ostatní | V10: October
A11: represented by | B11: =IF('DPC - CZ'!B11='DPC - CZ'!Q1,S1,IF('DPC - CZ'!B11='DPC - CZ'!Q2,S2,IF('DPC - CZ'!B11='DPC - CZ'!Q3,S3,IF('DPC - CZ'!B11='DPC - CZ'!Q4,S4,"")))) | D11: =IF('DPC - CZ'!D11="","",'DPC - CZ'!D11) | V11: November
A12: (hereinafter as "TBU in Zlín" or "Employer") | V12: December
A14: and Mr./Mrs. | B14: =IF('DPC - CZ'!B14="","",'DPC - CZ'!B14)
A15: Birth Certificate No.: | B15: =IF('DPC - CZ'!B16="","",'DPC - CZ'!B16) | E15: Date of birth: | F15: =IF('DPC - CZ'!F16="","",'DPC - CZ'!F16) | G15: Place of birth, country: | H15: =IF('DPC - CZ'!H16="","",'DPC - CZ'!H16)
A17: Permanent address - Street, Land-registry No./House No.,Town/village, Postcode, Post office and a residential address in the CR:
A18: =IF('DPC - CZ'!A19="","",'DPC - CZ'!A19)
A19: (hereinafter as "Worker")
A21: are entering into the following Subcontract Agreement in compliance with § 74, 76 and 77 of the Labour Code:
A23: I
A24: 1. The Worker undertakes to work for TBU in Zlín | E24: from | F24: =IF('DPC - CZ'!G25="","",'DPC - CZ'!G25) | G24: to | H24: =IF('DPC - CZ'!I25="","",'DPC - CZ'!I25)
A26: the following agreed-upon work:
A27: (List of activities is included in the Annex)
A29: Worker category:*/ | C29: ='DPC - CZ'!C30 | D29: **/
A31: Typical job position title: ***/
A33: 2. Location of work: | C33: =IF('DPC - CZ'!C34="","",'DPC - CZ'!C34)
A35: 3. First day of employment: | C35: =IF('DPC - CZ'!D36="","",'DPC - CZ'!D36)
A37: 4. The Agreed range of working hours is listed in the appendix.
A39: 5. The Worker requests that the remuneration be paid:
B40: a) to his/her bank account in the Czech Republic: | E40: =IF('DPC - CZ'!E41="","",'DPC - CZ'!E41)
E41: Specific Code (if applicable) | H41: =IF('DPC - CZ'!H42="","",'DPC - CZ'!H42)
B42: b) to his/her bank account abroad; | D42: EU country: | F42: IBAN | G42: =IF('DPC - CZ'!G43="","",'DPC - CZ'!G43)
F43: SWIFT | G43: =IF('DPC - CZ'!G44="","",'DPC - CZ'!G44)
D44: country outside the EU: | F44: account No. | G44: =IF('DPC - CZ'!G45="","",'DPC - CZ'!G45)
F45: SWIFT | G45: =IF('DPC - CZ'!G46="","",'DPC - CZ'!G46) | J45: Please note:
B46: c) in the Cash Office | H46: =IF('DPC - CZ'!H47="","","YES") | J46: If you did not enter a bank account number, select the c) option and enter YES.
A48: 6. Working hours are scheduled into shifts by: | D48: =IF('DPC - CZ'!D49='DPC - EN'!U1,'DPC - EN'!T1,IF('DPC - CZ'!D49='DPC - EN'!U2,'DPC - EN'!T2,"")) | I48: **/
A50: II
A51: TBU in Zlín:
A53: 1. Shall provide appropriate conditions to the Worker in order to ensure proper and safe work performance.
A55: 2. Shall remunerate the Worker for the work performed in compliance with the Labour Code, in the amount agreed upon.
...
