Workbook

Sheet DPP - CZ
A1: Univerzita Tomáše Bati ve Zlíně | H1: upraveno: | I1: 2026-10 | J1: Vyplňte pouze žluté oblasti | K1: Fakulta technologická | L1: 11 - profesor | M1: 11 | N1: nebyl | O1: není | P1: děkanem/kou | R1: zaměstnavatel
K2: Fakulta logistiky a krizového řízení | L2: 12 - docent | M2: 12 | N2: byl | O2: je | P2: rektorem/kou | R2: zaměstnanec na základě dohody zaměstnance a zaměstnavatele
G3: osobní číslo pracovníka: | K3: Fakulta aplikované informatiky | L3: 13 - odborný asistent | M3: 13 | P3: kvestorem/kou
K4: Fakulta multimediálních komunikací | L4: 14 - asistent | M4: 14 | P4: ředitelem/kou součásti
J5: NETISKNE SE | K5: Fakulta managementu a ekonomiky | L5: 15 - lektor | M5: 15
A6: Dohoda o provedení práce | K6: Fakulta humanitních studií | L6: 21 - vědecký pracovník | M6: 21
J7: Nápověda | K7: Univerzitní institut | L7: 22 - techn. - hosp. prac. | M7: 22
A8: Univerzita Tomáše Bati ve Zlíně, | H8: IČO: 70883521 | K8: Koleje a menza | L8: 23 - prac. děln. povolání | M8: 23
K9: Knihovna | L9: 24 - obch. provozní pracovník | M9: 24
A10: se sídlem: | K10: Rektorát | L10: 29 - ostatní | M10: 29
A12: zastoupena
A13: (dále jen "UTB" nebo "zaměstnavatel")
A15: a pan/í/
A17: rodné číslo | D17: datum narození | F17: =IF(B17="","",MID(B17,5,2)&"."&IF(MID(B17,3,2)<"50",MID(B17,3,2)&".",(MID(B17,3,2)-"50")&".")&IF(MID(B17,1,2)<"40","20"&MID(B17,1,2),"19"&MID(B17,1,2))) | G17: místo, stát
A19: trvalé bydliště - ulice, číslo popisné/číslo orientační, obec, PSČ, pošta a adresa pobytu v ČR:
A21: (dále jen jako "zaměstnanec")
J22: 10.4.2004 10/4
A23: uzavírají podle § 74, 75 a 77 zákoníku práce tuto dohodu o provedení práce: | J23: 8.3.1962 8/3/62
A25: I.
A26: 1. Zaměstnanec se zavazuje, že pro UTB ve Zlíně v době | F26: od | H26: do | J26: =IF(I26<G26,"POZOR DATUM !!","")
A28: provede tyto sjednané práce:
A29: (rozpis činnosti viz. příloha)
A31: Kategorie zaměstnance:*/ | C31: =IF(D31=L1,M1,IF(D31=L2,M2,IF(D31=L3,M3,IF(D31=L4,M4,IF(D31=L5,M5,IF(D31=L6,M6,IF(D31=L7,M7,IF(D31=L8,M8,IF(D31=L9,M9,IF(D31=L10,M10,"")))))))))) | E31: **/
A33: Typová pracovní pozice: ***/
A35: 2. Místo výkonu práce:
A37: 3. Den zahájení výkonu práce:
A39: 4. Sjednaný rozsah pracovní doby je uveden v příloze této dohody.
A41: 5. Zaměstnanec žádá o vyplacení mzdy:
B42: a) na účet u peněžního ústavu v ČR:
E43: spec. symbol (pokud existuje)
B44: b) na účet u pen. ústavu v zahraničí, stát EU: | F44: IBAN
F45: SWIFT
D46: stát mimo EU: | F46: účet
F47: SWIFT
B48: c) pokladnou | J48: Nápověda
J49: Pokud není vyplněno č.účtu, vyplňte u volby c) ANO
A50: 6. Pracovní dobu do směn rozvrhuje: | I50: **/
A52: II.
A53: UTB ve Zlíně:
A55: 1. Vytvoří zaměstnanci přiměřené podmínky, zajišťující řádný a bezpečný výkon práce.
...

Sheet DPP - EN
A1: Tomas Bata University in Zlín | H1: Version: | I1: 2026-10 | J1: Vyplňte pouze žluté oblasti | K1: Fakulta technologická | L1: Faculty of Technology | M1: 11 - profesor | N1: 11 - Professor | O1: that no | P1: that no | Q1: the dean | R1: the Employer | S1: zaměstnavatel | T1: January
K2: Fakulta logistiky a krizového řízení | L2: Faculty of Logistics and Crisis Management | M2: 12 - docent | N2: 12 - Associate Professor | O2: that a | P2: that an | Q2: the rector | R2: the Worker, based on an agreement between the Worker and the Employer | S2: zaměstnanec na základě dohody zaměstnance a zaměstnavatele | T2: February
G3: Worker ID number:: | I3: =IF('DPP - CZ'!I3="","",'DPP - CZ'!I3) | K3: Fakulta aplikované informatiky | L3: Fakulta of Applied Informatics | M3: 13 - odborný asistent | N3: 13 - Senior Lecturer | Q3: the bursar | T3: March
J4: DO NOT PRINT | K4: Fakulta multimediálních komunikací | L4: Faculty of Multimedia Communications | M4: 14 - asistent | N4: 14 - Lecturer | Q4: the director | T4: April
A5: Contract for Services | K5: Fakulta managementu a ekonomiky | L5: Faculty of Management and Economics | M5: 15 - lektor | N5: 15 - Assistant Lecturer | T5: May
J6: Instructions | K6: Fakulta humanitních studií | L6: Faculty of Humanities | M6: 21 - vědecký pracovník | N6: 21 - Researcher | T6: June
A7: Tomas Bata University in Zlín, | D7: =IF('DPP - CZ'!D8='DPP - EN'!K1,'DPP - EN'!L1,(IF('DPP - CZ'!D8='DPP - EN'!K2,'DPP - EN'!L2,(IF('DPP - CZ'!D8='DPP - EN'!K3,'DPP - EN'!L3,(IF('DPP - CZ'!D8='DPP - EN'!K4,'DPP - EN'!L4,(IF('DPP - CZ'!D8='DPP - EN'!K5,'DPP - EN'!L5,(IF('DPP - CZ'!D8='DPP - EN'!K6,'DPP - EN'!L6,(IF('DPP - CZ'!D8='DPP - EN'!K7,'DPP - EN'!L7,(IF('DPP - CZ'!D8='DPP - EN'!K9,'DPP - EN'!L9,(IF('DPP - CZ'!D8='DPP - EN'!K8,'DPP - EN'!L8,(IF('DPP - CZ'!D8='DPP - EN'!K10,'DPP - EN'!L10,""))))))))))))))))))) | I7: ID: 70883521 | K7: Univerzitní institut | L7: University Institute | M7: 22 - techn. - hosp. prac. | N7: 22 - Administration and technical staff | T7: July
K8: Knihovna | L8: Library | M8: 23 - prac. děln. povolání | N8: 23 - Manual worker | T8: August
A9: with its registered office: | C9: =IF('DPP - CZ'!B10="","",'DPP - CZ'!B10) | K9: Koleje a menza | L9: Halls of Residence and Refectoy | M9: 24 - obch. provozní pracovník | N9: 24 - Business administration staff | T9: September
K10: Rektorát | L10: Rectorate | M10: 29 - ostatní | N10: 29 - Other professions | T10: October
A11: represented by | B11: =IF('DPP - CZ'!B12='DPP - CZ'!P1,Q1,IF('DPP - CZ'!B12='DPP - CZ'!P2,Q2,IF('DPP - CZ'!B12='DPP - CZ'!P3,Q3,IF('DPP - CZ'!B12='DPP - CZ'!P4,Q4,"")))) | D11: =IF('DPP - CZ'!D12="","",'DPP - CZ'!D12) | T11: November
A12: (hereinafter as "TBU in Zlín" or "Employer") | T12: December
A14: and Mr./Mrs. | B14: =IF('DPP - CZ'!B15="","",'DPP - CZ'!B15)
A15: Birth Certificate No.: | B15: =IF('DPP - CZ'!B17="","",'DPP - CZ'!B17) | D15: Date of birth: | F15: =IF('DPP - CZ'!F17="","",'DPP - CZ'!F17) | G15: Place of birth, country: | H15: =IF('DPP - CZ'!H17="","",'DPP - CZ'!H17)
A17: Permanent address - Street, Land-registry No./House No.,Town/village, Postcode, Post office and a residential address in the CR:
A18: =IF('DPP - CZ'!A20="","",'DPP - CZ'!A20) | J18: 10.4.2004 10/4
A19: (hereinafter as "Worker") | J19: 8.3.1962 8/3/62
A21: are entering into the following Contract for Services in compliance with § 74, 75 and 77 of the Labour Code:
A23: I
A24: 1. The Worker undertakes to work for TBU in Zlín | E24: from: | F24: =IF('DPP - CZ'!G26="","",'DPP - CZ'!G26) | G24: to | H24: =IF('DPP - CZ'!I26="","",'DPP - CZ'!I26) | J24: =IF(H24<F24,"POZOR DATUM !!","")
A26: the following agreed-upon work::
A27: (List of activities is included in the Annex)
A29: Worker category: */ | C29: ='DPP - CZ'!C31 | D29: **/
A31: Typical job position title: ***/
A33: 2. Location of work: | C33: =IF('DPP - CZ'!C35="","",'DPP - CZ'!C35)
A35: 3. First day of employment: | C35: =IF('DPP - CZ'!C37="","",'DPP - CZ'!C37)
A37: 4. The Agreed range of working hours is listed in the appendix.
A39: 5. The Worker requests that the remuneration be paid:
B40: a) to his/her bank account in the | E40: =IF('DPP - CZ'!E42="","",'DPP - CZ'!E42)
B41: Czech Republic | E41: Specific Code (if applicable) | H41: =IF('DPP - CZ'!H43="","",'DPP - CZ'!H43)
B42: b) to his/her bank account abroad; EU country: | F42: IBAN | G42: =IF('DPP - CZ'!G44="","",'DPP - CZ'!G44)
F43: SWIFT | G43: =IF('DPP - CZ'!G45="","",'DPP - CZ'!G45)
C44: country outside the EU: | F44: account No. | G44: =IF('DPP - CZ'!G46="","",'DPP - CZ'!G46)
F45: SWIFT | G45: =IF('DPP - CZ'!G47="","",'DPP - CZ'!G47) | J45: Please note:
B46: c) in the Cash Office | H46: =IF('DPP - CZ'!H48="","","YES") | J46: If you did not enter a bank account number, select the c) option and enter YES.
A48: 6. Working hours are scheduled into shifts by: | E48: =IF('DPP - CZ'!D50='DPP - EN'!S1,'DPP - EN'!R1,IF('DPP - CZ'!D50='DPP - EN'!S2,'DPP - EN'!R2,"")) | I48: **/
A50: II
A51: TBU in Zlín:
A53: 1. Shall provide appropriate conditions to the Worker in order to ensure proper and safe work performance.
A55: 2. Shall remunerate the Worker for the work performed in compliance with the Labour Code, in the amount agreed upon.
...
